BEGIN:VCALENDAR
VERSION:2.0
PRODID:-//ChamberMaster//Event Calendar 2.0//EN
METHOD:PUBLISH
X-PUBLISHED-TTL:P3D
REFRESH-INTERVAL:P3D
CALSCALE:GREGORIAN
BEGIN:VEVENT
DTSTART:20221104T180000Z
DTEND:20221104T190000Z
X-MICROSOFT-CDO-ALLDAYEVENT:FALSE
SUMMARY:Depression Support
DESCRIPTION:Depression Support at CCS Hope Center every Wednesday and Friday\n\nHOPE Center is a Kern Behavioral Health and Recovery Service\n\n1400 N Norma St.\, Ste. 137\, Ridgecrest\n\nPlease make reservation\, 760-446-1597  Transportation can be provided.\n\nAdults 18 and over only
X-ALT-DESC;FMTTYPE=text/html:<span style="color: rgb(51\, 51\, 51)\; font-family: sans-serif\, Arial\, Verdana\, &quot\;Trebuchet MS&quot\;\; font-size: 13px\; background-color: rgb(255\, 255\, 255)\;">Depression Support&nbsp\;at CCS Hope Center every Wednesday and Friday</span><br style="color: rgb(51\, 51\, 51)\; font-family: sans-serif\, Arial\, Verdana\, &quot\;Trebuchet MS&quot\;\; font-size: 13px\;">\n<span style="color: rgb(51\, 51\, 51)\; font-family: sans-serif\, Arial\, Verdana\, &quot\;Trebuchet MS&quot\;\; font-size: 13px\; background-color: rgb(255\, 255\, 255)\;">HOPE Center is a Kern Behavioral Health and Recovery Service</span><br style="color: rgb(51\, 51\, 51)\; font-family: sans-serif\, Arial\, Verdana\, &quot\;Trebuchet MS&quot\;\; font-size: 13px\;">\n<span style="color: rgb(51\, 51\, 51)\; font-family: sans-serif\, Arial\, Verdana\, &quot\;Trebuchet MS&quot\;\; font-size: 13px\; background-color: rgb(255\, 255\, 255)\;">1400 N Norma St.\, Ste. 137\, Ridgecrest</span><br style="color: rgb(51\, 51\, 51)\; font-family: sans-serif\, Arial\, Verdana\, &quot\;Trebuchet MS&quot\;\; font-size: 13px\;">\n<span style="color: rgb(51\, 51\, 51)\; font-family: sans-serif\, Arial\, Verdana\, &quot\;Trebuchet MS&quot\;\; font-size: 13px\; background-color: rgb(255\, 255\, 255)\;">Please make reservation\, 760-446-1597&nbsp\; Transportation can be provided.</span><br style="color: rgb(51\, 51\, 51)\; font-family: sans-serif\, Arial\, Verdana\, &quot\;Trebuchet MS&quot\;\; font-size: 13px\;">\n<span style="color: rgb(51\, 51\, 51)\; font-family: sans-serif\, Arial\, Verdana\, &quot\;Trebuchet MS&quot\;\; font-size: 13px\; background-color: rgb(255\, 255\, 255)\;">Adults 18 and over only</span>
LOCATION:
UID:e.1502.25725
SEQUENCE:3
DTSTAMP:20260420T060337Z
URL:http://ridgecrestchamber.chambermaster.com/events/details/depression-support-11-04-2022-25725
END:VEVENT

END:VCALENDAR
